BEGIN:VCALENDAR
PRODID:-//eluceo/ical//2.0/EN
VERSION:2.0
CALSCALE:GREGORIAN
BEGIN:VEVENT
UID:4aa809ea06b34f4421a24734ffccfdc3
DTSTAMP:20260422T120621Z
SUMMARY:Chabad JEC Inaugural Gala
DESCRIPTION:Jewish Federation & Foundation of Rockland County\nFundraiser\n
 https://jewishrockland.org/fundraiser/chabad-jec-inaugural-gala-7395\n\nCh
 abad JEC Inaugural Gala
DTSTART;TZID=America/New_York:20130610T183000
DTEND;TZID=America/New_York:20130610T220000
END:VEVENT
END:VCALENDAR
