BEGIN:VCALENDAR
PRODID:-//eluceo/ical//2.0/EN
VERSION:2.0
CALSCALE:GREGORIAN
BEGIN:VEVENT
UID:5a3c2c5c74b732767b13bb9727bf0309
DTSTAMP:20260424T205053Z
SUMMARY:RJA Plant Sale
DESCRIPTION:Jewish Federation & Foundation of Rockland County\nFundraiser\n
 https://jewishrockland.org/fundraiser/rja-plant-sale-61949\n\nPick out som
 e new plants for your garden and support Rockland Jewish Academy! All proc
 eeds will benefit RJA.
DTSTART;TZID=America/New_York:20140509T090000
DTEND;TZID=America/New_York:20140509T120000
END:VEVENT
END:VCALENDAR
