BEGIN:VCALENDAR
PRODID:-//eluceo/ical//2.0/EN
VERSION:2.0
CALSCALE:GREGORIAN
BEGIN:VEVENT
UID:db312797c4da8e01df0c4362e8a62fb2
DTSTAMP:20260423T011120Z
SUMMARY:YOUTH GROUP DANCE FOR ADULTS!
DESCRIPTION:Jewish Federation & Foundation of Rockland County\nFundraiser\n
 https://jewishrockland.org/fundraiser/youth-group-dance-for-adults-7494\n\
 nYouth Group Dance for Adults
DTSTART;TZID=America/New_York:20131116T200000
DTEND;TZID=America/New_York:20131116T235900
END:VEVENT
END:VCALENDAR
