BEGIN:VCALENDAR
PRODID:-//eluceo/ical//2.0/EN
VERSION:2.0
CALSCALE:GREGORIAN
BEGIN:VEVENT
UID:6af204a604388e03d9244613201dd2f9
DTSTAMP:20260422T233831Z
SUMMARY:Camp Galil Spring Open House
DESCRIPTION:Jewish Federation & Foundation of Rockland County\nKids\nhttps:
 //jewishrockland.org/kids/camp-galil-spring-open-house-7381\n\nCamp Galil 
 Spring Open House
DTSTART;TZID=America/New_York:20130505T150000
DTEND;TZID=America/New_York:20130505T170000
END:VEVENT
END:VCALENDAR
