BEGIN:VCALENDAR
PRODID:-//eluceo/ical//2.0/EN
VERSION:2.0
CALSCALE:GREGORIAN
BEGIN:VEVENT
UID:655cad0bc9ac1b34f63905b08cf33b30
DTSTAMP:20260423T233753Z
SUMMARY:Family Lego Event
DESCRIPTION:Jewish Federation & Foundation of Rockland County\nKids\nhttps:
 //jewishrockland.org/kids/family-lego-event-61952\n\nIn the spirit of Yom 
 Ha'Atzmaut architect Stephen Schwartz of Building Blocks Workshop LLC is r
 eturning to JCC Rockland for another fantastic experience with Legos. Join
  us as we build Jerusalem one lego at a time. The Old City of Jerusalem co
 mes alive on a 20 foot by 20 foot drawing with the Walls\, the 8 gate city
 \, the Kotel\, King David's Tower\, the Beit Hamikdash and all other impor
 tant elements. Participants are encouraged to use their imagination and na
 me each gate\, the name of the variou...
DTSTART;TZID=America/New_York:20140504T150000
DTEND;TZID=America/New_York:20140504T170000
END:VEVENT
END:VCALENDAR
