BEGIN:VCALENDAR
PRODID:-//eluceo/ical//2.0/EN
VERSION:2.0
CALSCALE:GREGORIAN
BEGIN:VEVENT
UID:cf39a26b583ba0a616e77f933180bce8
DTSTAMP:20260423T142419Z
SUMMARY:Family Tu B’Shevat Seder and Pajama Party
DESCRIPTION:Jewish Federation & Foundation of Rockland County\nKids\nhttps:
 //jewishrockland.org/kids/family-tu-bshevat-seder-and-pajama-party-55993\n
 \nFamily Tu B’Shevat Seder and Pajama Party
DTSTART;TZID=America/New_York:20140111T170000
DTEND;TZID=America/New_York:20140111T183000
END:VEVENT
END:VCALENDAR
