BEGIN:VCALENDAR
PRODID:-//eluceo/ical//2.0/EN
VERSION:2.0
CALSCALE:GREGORIAN
BEGIN:VEVENT
UID:1c56989bbd6b8b1c67a32e1a84c09a44
DTSTAMP:20260425T210459Z
SUMMARY:Hebrew for Little Ones
DESCRIPTION:Jewish Federation & Foundation of Rockland County\nKids\nhttps:
 //jewishrockland.org/kids/hebrew-for-little-ones-7267\n\nHebrew for Little
  Ones
DTSTART;TZID=America/New_York:20130108T124500
DTEND;TZID=America/New_York:20130108T133000
END:VEVENT
END:VCALENDAR
