BEGIN:VCALENDAR
PRODID:-//eluceo/ical//2.0/EN
VERSION:2.0
CALSCALE:GREGORIAN
BEGIN:VEVENT
UID:01cfdef07d45977c2e136a3cb417db8e
DTSTAMP:20260423T071801Z
SUMMARY:Hebrew for Little Ones at CSI
DESCRIPTION:Jewish Federation & Foundation of Rockland County\nKids\nhttps:
 //jewishrockland.org/kids/hebrew-for-little-ones-at-csi-7459\n\nHebrew for
  Little Ones at CSI
DTSTART;TZID=America/New_York:20131001T124500
DTEND;TZID=America/New_York:20131001T133000
END:VEVENT
END:VCALENDAR
