BEGIN:VCALENDAR
PRODID:-//eluceo/ical//2.0/EN
VERSION:2.0
CALSCALE:GREGORIAN
BEGIN:VEVENT
UID:a7773fd4224bc690c158e6a980456c2e
DTSTAMP:20260421T080740Z
SUMMARY:JCC Rockland Purim Palooza
DESCRIPTION:Jewish Federation & Foundation of Rockland County\nKids\nhttps:
 //jewishrockland.org/kids/jcc-rockland-purim-palooza-59694\n\nPurim Palooz
 a at JCC Rockland\, 1-3 PM. Bounce house\, arts and crafts\, performers\
 , face painting\, snacks and more. $10 in advance / $15 at the door. No fe
 e for adults or children under 1.
DTSTART;TZID=America/New_York:20140309T130000
DTEND;TZID=America/New_York:20140309T150000
END:VEVENT
END:VCALENDAR
