BEGIN:VCALENDAR
PRODID:-//eluceo/ical//2.0/EN
VERSION:2.0
CALSCALE:GREGORIAN
BEGIN:VEVENT
UID:9d89e157ecd27f71e3449abe13bcd64b
DTSTAMP:20260420T054214Z
SUMMARY:Jr-Jr Congregation at NCJC
DESCRIPTION:Jewish Federation & Foundation of Rockland County\nKids\nhttps:
 //jewishrockland.org/kids/jr-jr-congregation-at-ncjc-7353\n\nJr-Jr Congreg
 ation at NCJC
DTSTART;TZID=America/New_York:20130302T104500
DTEND;TZID=America/New_York:20130302T111500
END:VEVENT
END:VCALENDAR
