BEGIN:VCALENDAR
PRODID:-//eluceo/ical//2.0/EN
VERSION:2.0
CALSCALE:GREGORIAN
BEGIN:VEVENT
UID:e3f4f073ea7b21c84e188213d23e3522
DTSTAMP:20260422T204352Z
SUMMARY:Kids Chanukah and Thanksgiving Baking
DESCRIPTION:Jewish Federation & Foundation of Rockland County\nKids\nhttps:
 //jewishrockland.org/kids/kids-chanukah-and-thanksgiving-baking-7511\n\nKi
 ds Chanukah and Thanksgiving Baking
DTSTART;TZID=America/New_York:20131113T133000
DTEND;TZID=America/New_York:20131113T140000
END:VEVENT
END:VCALENDAR
