BEGIN:VCALENDAR
PRODID:-//eluceo/ical//2.0/EN
VERSION:2.0
CALSCALE:GREGORIAN
BEGIN:VEVENT
UID:8cfddc1d7a74f1dc3bad381e7a34b225
DTSTAMP:20260422T191050Z
SUMMARY:Lots of Latkes Dinner and Amazing Grace Circus
DESCRIPTION:Jewish Federation & Foundation of Rockland County\nKids\nhttps:
 //jewishrockland.org/kids/lots-of-latkes-dinner-and-amazing-grace-circus-7
 519\n\nLots of Latkes Dinner and Amazing Grace
DTSTART;TZID=America/New_York:20131201T160000
DTEND;TZID=America/New_York:20131201T183000
END:VEVENT
END:VCALENDAR
