BEGIN:VCALENDAR
PRODID:-//eluceo/ical//2.0/EN
VERSION:2.0
CALSCALE:GREGORIAN
BEGIN:VEVENT
UID:9ae1525219b461a11f79a1b7d1538d69
DTSTAMP:20260424T142656Z
SUMMARY:Munchkins & Mishpacha Class at CSI
DESCRIPTION:Jewish Federation & Foundation of Rockland County\nKids\nhttps:
 //jewishrockland.org/kids/munchkins--mishpacha-class-at-csi-7266\n\nMunchk
 ins & Mishpacha Class at CSI
DTSTART;TZID=America/New_York:20130106T100000
DTEND;TZID=America/New_York:20130106T110000
END:VEVENT
END:VCALENDAR
