BEGIN:VCALENDAR
PRODID:-//eluceo/ical//2.0/EN
VERSION:2.0
CALSCALE:GREGORIAN
BEGIN:VEVENT
UID:121cee40c2038d09dbb61a2a5d7e4134
DTSTAMP:20260421T182106Z
SUMMARY:Passover Storytime with Rabbi Abraham
DESCRIPTION:Jewish Federation & Foundation of Rockland County\nKids\nhttps:
 //jewishrockland.org/kids/passover-storytime-with-rabbi-abraham-7369\n\nPa
 ssover Storytime with Rabbi Abraham
DTSTART;TZID=America/New_York:20130321T160000
DTEND;TZID=America/New_York:20130321T170000
END:VEVENT
END:VCALENDAR
