BEGIN:VCALENDAR
PRODID:-//eluceo/ical//2.0/EN
VERSION:2.0
CALSCALE:GREGORIAN
BEGIN:VEVENT
UID:af813e55af422f83dd3e7a4486702b9c
DTSTAMP:20260424T160039Z
SUMMARY:PJ Library Touch-A-Truck
DESCRIPTION:Jewish Federation & Foundation of Rockland County\nKids\nhttps:
 //jewishrockland.org/kids/pj-library-touch-a-truck-7411\n\nPJ Library Touc
 h-A-Truck
DTSTART;TZID=America/New_York:20130908T100000
DTEND;TZID=America/New_York:20130908T140000
END:VEVENT
END:VCALENDAR
