BEGIN:VCALENDAR
PRODID:-//eluceo/ical//2.0/EN
VERSION:2.0
CALSCALE:GREGORIAN
BEGIN:VEVENT
UID:0025281d79efaa279f475c434bed6c6a
DTSTAMP:20260422T050825Z
SUMMARY:TGI Shabbat - Purim at NCJC
DESCRIPTION:Jewish Federation & Foundation of Rockland County\nKids\nhttps:
 //jewishrockland.org/kids/tgi-shabbat---purim-at-ncjc-7329\n\nTGI Shabbat 
 - Purim at NCJC
DTSTART;TZID=America/New_York:20130216T103000
DTEND;TZID=America/New_York:20130216T110000
END:VEVENT
END:VCALENDAR
