BEGIN:VCALENDAR
PRODID:-//eluceo/ical//2.0/EN
VERSION:2.0
CALSCALE:GREGORIAN
BEGIN:VEVENT
UID:03b819dd6be9639ca39f95904a36c38d
DTSTAMP:20260424T155849Z
SUMMARY:Tot Shabbat at CSI
DESCRIPTION:Jewish Federation & Foundation of Rockland County\nKids\nhttps:
 //jewishrockland.org/kids/tot-shabbat-at-csi-7256\n\nTot Shabbat at CSI
DTSTART;TZID=America/New_York:20130105T110000
DTEND;TZID=America/New_York:20130105T120000
END:VEVENT
END:VCALENDAR
