BEGIN:VCALENDAR
PRODID:-//eluceo/ical//2.0/EN
VERSION:2.0
CALSCALE:GREGORIAN
BEGIN:VEVENT
UID:5fdd6eddf816dabc868009384ad66ef3
DTSTAMP:20260420T170554Z
SUMMARY:Watermelon Wednesday PM Summer Story Time
DESCRIPTION:Jewish Federation & Foundation of Rockland County\nKids\nhttps:
 //jewishrockland.org/kids/watermelon-wednesday-pm-summer-story-time-7402\n
 \nWatermelon Wednesday PM Summer Story Time
DTSTART;TZID=America/New_York:20130710T163000
DTEND;TZID=America/New_York:20130710T173000
END:VEVENT
END:VCALENDAR
