BEGIN:VCALENDAR
PRODID:-//eluceo/ical//2.0/EN
VERSION:2.0
CALSCALE:GREGORIAN
BEGIN:VEVENT
UID:eeeb4bc9e1c349f916261fadbaead6a6
DTSTAMP:20260422T145750Z
SUMMARY:Yoga for Children
DESCRIPTION:Jewish Federation & Foundation of Rockland County\nKids\nhttps:
 //jewishrockland.org/kids/yoga-for-children-7268\n\nYoga for Children
DTSTART;TZID=America/New_York:20130110T124500
DTEND;TZID=America/New_York:20130110T133000
END:VEVENT
END:VCALENDAR
