BEGIN:VCALENDAR
PRODID:-//eluceo/ical//2.0/EN
VERSION:2.0
CALSCALE:GREGORIAN
BEGIN:VEVENT
UID:f61af043564852fa86e375305d61323a
DTSTAMP:20260420T230907Z
SUMMARY:Yoga for Kids ar CSI- Free Trial Class
DESCRIPTION:Jewish Federation & Foundation of Rockland County\nKids\nhttps:
 //jewishrockland.org/kids/yoga-for-kids-ar-csi--free-trial-class-7450\n\nY
 oga for Kids at CSI- Free Trial Class
DTSTART;TZID=America/New_York:20130912T124500
DTEND;TZID=America/New_York:20130912T133000
END:VEVENT
END:VCALENDAR
