BEGIN:VCALENDAR
PRODID:-//eluceo/ical//2.0/EN
VERSION:2.0
CALSCALE:GREGORIAN
BEGIN:VEVENT
UID:e18b2aa53e32993f0f3354f6d5fc1151
DTSTAMP:20260423T195046Z
SUMMARY:Yom Ha'atzmaut Celebration for 4th & 5th Graders
DESCRIPTION:Jewish Federation & Foundation of Rockland County\nKids\nhttps:
 //jewishrockland.org/kids/yom-haatzmaut-celebration-for-4th--5th-graders-7
 349\n\nYom Ha'atzmaut Celebration for 4th & 5th Graders
DTSTART;TZID=America/New_York:20130411T163000
DTEND;TZID=America/New_York:20130411T183000
END:VEVENT
END:VCALENDAR
