BEGIN:VCALENDAR
PRODID:-//eluceo/ical//2.0/EN
VERSION:2.0
CALSCALE:GREGORIAN
BEGIN:VEVENT
UID:c9283a6e99142ca8d64b8f0b78a0d85b
DTSTAMP:20260421T050702Z
SUMMARY:2nd Annual CSI Poetry and Storytelling Night
DESCRIPTION:Jewish Federation & Foundation of Rockland County\nTeens\nhttps
 ://jewishrockland.org/teens/2nd-annual-csi-poetry-and-storytelling-night-7
 273\n\n2nd Annual CSI Poetry and Storytelling Night
DTSTART;TZID=America/New_York:20130112T183000
DTEND;TZID=America/New_York:20130112T203000
END:VEVENT
END:VCALENDAR
