BEGIN:VCALENDAR
PRODID:-//eluceo/ical//2.0/EN
VERSION:2.0
CALSCALE:GREGORIAN
BEGIN:VEVENT
UID:417147995063b23a63c5645f241780d6
DTSTAMP:20260421T050747Z
SUMMARY:JCC Rockland Chazen Jazz Concert
DESCRIPTION:Jewish Federation & Foundation of Rockland County\nTeens\nhttps
 ://jewishrockland.org/teens/jcc-rockland-chazen-jazz-concert-7309\n\nJCC C
 hazen Jazz Concert
DTSTART;TZID=America/New_York:20130414T153000
DTEND;TZID=America/New_York:20130414T170000
END:VEVENT
END:VCALENDAR
